BEGIN:VCALENDAR
VERSION:2.0
PRODID:-//Dubuque Camera Club - ECPv6.15.20//NONSGML v1.0//EN
CALSCALE:GREGORIAN
METHOD:PUBLISH
X-WR-CALNAME:Dubuque Camera Club
X-ORIGINAL-URL:https://www.dubuquecameraclub.com
X-WR-CALDESC:Events for Dubuque Camera Club
REFRESH-INTERVAL;VALUE=DURATION:PT1H
X-Robots-Tag:noindex
X-PUBLISHED-TTL:PT1H
BEGIN:VTIMEZONE
TZID:America/Chicago
BEGIN:DAYLIGHT
TZOFFSETFROM:-0600
TZOFFSETTO:-0500
TZNAME:CDT
DTSTART:20170312T080000
END:DAYLIGHT
BEGIN:STANDARD
TZOFFSETFROM:-0500
TZOFFSETTO:-0600
TZNAME:CST
DTSTART:20171105T070000
END:STANDARD
BEGIN:DAYLIGHT
TZOFFSETFROM:-0600
TZOFFSETTO:-0500
TZNAME:CDT
DTSTART:20180311T080000
END:DAYLIGHT
BEGIN:STANDARD
TZOFFSETFROM:-0500
TZOFFSETTO:-0600
TZNAME:CST
DTSTART:20181104T070000
END:STANDARD
BEGIN:DAYLIGHT
TZOFFSETFROM:-0600
TZOFFSETTO:-0500
TZNAME:CDT
DTSTART:20190310T080000
END:DAYLIGHT
BEGIN:STANDARD
TZOFFSETFROM:-0500
TZOFFSETTO:-0600
TZNAME:CST
DTSTART:20191103T070000
END:STANDARD
BEGIN:DAYLIGHT
TZOFFSETFROM:-0600
TZOFFSETTO:-0500
TZNAME:CDT
DTSTART:20200308T080000
END:DAYLIGHT
BEGIN:STANDARD
TZOFFSETFROM:-0500
TZOFFSETTO:-0600
TZNAME:CST
DTSTART:20201101T070000
END:STANDARD
BEGIN:DAYLIGHT
TZOFFSETFROM:-0600
TZOFFSETTO:-0500
TZNAME:CDT
DTSTART:20210314T080000
END:DAYLIGHT
BEGIN:STANDARD
TZOFFSETFROM:-0500
TZOFFSETTO:-0600
TZNAME:CST
DTSTART:20211107T070000
END:STANDARD
END:VTIMEZONE
BEGIN:VEVENT
DTSTART;VALUE=DATE:20200828
DTEND;VALUE=DATE:20200829
DTSTAMP:20260419T190418
CREATED:20200804T142321Z
LAST-MODIFIED:20200804T142503Z
UID:6883-1598572800-1598659199@www.dubuquecameraclub.com
SUMMARY:Looking Up - Galena CFA exhibit submissions due Aug 28
DESCRIPTION:As a followup to their Trees…Branching Out virtual exhibit\, the Galena CFA has put out a call for a followup exhibit. This time\, the theme is “Looking Up.”  \nPatricia Lehnhardt is in charge of organizing the virtual exhibit. She answered a couple of questions below. To learn more\, or to submit images\, send her an email at gallerymanager@galenacenterforthearts.com \n\nSubject matter? ‘”Looking Up!” will explore what can be seen\, from clouds to birds\, rainbows\, kites\, planes\, the night sky or superheroes.\nWho can submit? Anyone who considers themself an artist.\nFile size/resolution guidelines? 300 dpi work best. It will be on the internet\, and not printed\nHow will the images be used? They will be in a flip book which will reside on the Galena Center for the Arts website. Here’s the last exhibit: GalenaCenterForTheArts.com/trees\nIs there a cost? Prizes? Nope\, nope. However\, the virtual exhibit will be promoted on their email list and website. (The gallery is closed right now.).\nHow to enter:  Send an email to Patricia at the address above.\nDeadline: Friday\, August 28.
URL:https://www.dubuquecameraclub.com/event/looking-up-deadline-aug-28/
LOCATION:Galena Center for the Arts\, 219 Summit St.\, Galena\, IL\, United States
CATEGORIES:Photography contests
ATTACH;FMTTYPE=image/jpeg:https://www.dubuquecameraclub.com/wp-content/uploads/2020/08/LoriB_GalenaCFAtreesflipbook2.jpg
END:VEVENT
BEGIN:VEVENT
DTSTART;VALUE=DATE:20200701
DTEND;VALUE=DATE:20200702
DTSTAMP:20260419T190418
CREATED:20200325T033145Z
LAST-MODIFIED:20200609T190728Z
UID:6358-1593561600-1593647999@www.dubuquecameraclub.com
SUMMARY:INHF calendar submissions due July 1\, 2020
DESCRIPTION:Iowa Natural Heritage Foundation is seeking submissions for their 2020 calendar. Deadline is July 1\, 2020. Find complete information here.
URL:https://www.dubuquecameraclub.com/event/inhf-2020calendar/
LOCATION:IL
CATEGORIES:Photography contests
ATTACH;FMTTYPE=image/jpeg:https://www.dubuquecameraclub.com/wp-content/uploads/2020/03/inhf-2020calendar-e1585107209540.jpg
END:VEVENT
BEGIN:VEVENT
DTSTART;VALUE=DATE:20200601
DTEND;VALUE=DATE:20200602
DTSTAMP:20260419T190418
CREATED:20200131T210904Z
LAST-MODIFIED:20200519T025834Z
UID:5859-1590969600-1591055999@www.dubuquecameraclub.com
SUMMARY:Mines of Spain nature photography contest – Mail in your SPRING photos by June 1st
DESCRIPTION:Enter your best prints in the Mines of Spain Photography Contest.  There are four submission deadlines\, one for each season of the year.  First prize print earns a prize of $50. \nThe deadline for SPRING photos taken in the park\, is June 1\, 2020. NOTE: Due to the pandemic\, you must mail in your entries. See their Facebook page for details. \nThis contest is being organized by the Friends of the Mines of Spain\, in honor of Parks 2020\, the centennial of the Iowa State Park system. \nClick here for the rules and entry form
URL:https://www.dubuquecameraclub.com/event/mos-deadline-june1/
LOCATION:IL
CATEGORIES:Photography contests
END:VEVENT
BEGIN:VEVENT
DTSTART;VALUE=DATE:20200301
DTEND;VALUE=DATE:20200302
DTSTAMP:20260419T190418
CREATED:20200131T210507Z
LAST-MODIFIED:20200131T210556Z
UID:5856-1583020800-1583107199@www.dubuquecameraclub.com
SUMMARY:Mines of Spain nature photography contest - Deadline for WINTER photos is March 1\, 2020.
DESCRIPTION:Enter your best prints in the Mines of Spain Photography Contest.  There are four submission deadlines\, one for each season of the year.   \nThe first deadline\, for winter photos taken in the park\, is on March 1\, 2020.  \nThis contest is being organized by the Friends of the Mines of Spain\, in honor of Parks 2020\, the centennial of the Iowa State Park system. \nClick here for the rules and entry form
URL:https://www.dubuquecameraclub.com/event/mos-deadline-march1/
LOCATION:IL
CATEGORIES:Photography contests
END:VEVENT
BEGIN:VEVENT
DTSTART;VALUE=DATE:20200201
DTEND;VALUE=DATE:20200202
DTSTAMP:20260419T190418
CREATED:20191228T191626Z
LAST-MODIFIED:20191228T192521Z
UID:5614-1580515200-1580601599@www.dubuquecameraclub.com
SUMMARY:Transportation in Iowa photo contest deadline Feb 1\, 2020
DESCRIPTION:The Iowa Department of Transportation (DOT) is sponsoring a couple of photo contests.  They offer no prizes\, but a chance for recognition. If you have taken some good photos in these categories\, you may wish to share your work in the contest: \n\nTransportation: February 1\, 2020 is the deadline for the  Transportation in Iowa photo contest. Find more details here.\nAviation: October 9\, 2020  is the deadline for the Iowa Aviation photography contest. Find more details here.
URL:https://www.dubuquecameraclub.com/event/iowa-dot-2020/
LOCATION:IL
CATEGORIES:Photography contests
END:VEVENT
BEGIN:VEVENT
DTSTART;VALUE=DATE:20191213
DTEND;VALUE=DATE:20191214
DTSTAMP:20260419T190418
CREATED:20191012T214422Z
LAST-MODIFIED:20191012T214539Z
UID:5067-1576195200-1576281599@www.dubuquecameraclub.com
SUMMARY:Keep Iowa Beautiful 2020 photo contest deadline
DESCRIPTION:Want to try your luck in a different kind of photo contest? The submission deadline for the 2020 Keep Iowa Beautiful photo contest is on Dec. 13\, 2019. Cost is $5 per entry. Winners get a small cash prize and a subscription to Our Iowa magazine. Learn more on the Keep Iowa Beautiful website.
URL:https://www.dubuquecameraclub.com/event/keep-iowa-beautiful-2020/
LOCATION:IL
CATEGORIES:Photography contests
END:VEVENT
BEGIN:VEVENT
DTSTART;VALUE=DATE:20191130
DTEND;VALUE=DATE:20191201
DTSTAMP:20260419T190418
CREATED:20191012T213751Z
LAST-MODIFIED:20191012T213901Z
UID:5063-1575072000-1575158399@www.dubuquecameraclub.com
SUMMARY:Smithsonian photo contest deadline - Nov. 30\, 2019
DESCRIPTION:Looking for a challenge? Try the Smithsonian Magazine photo contest. Entries are due by November 30\, 2019. Find more information on their website.
URL:https://www.dubuquecameraclub.com/event/smithsonian-photo-contest-2019/
LOCATION:IL
CATEGORIES:Photography contests
END:VEVENT
BEGIN:VEVENT
DTSTART;VALUE=DATE:20191031
DTEND;VALUE=DATE:20191101
DTSTAMP:20260419T190418
CREATED:20190312T153315Z
LAST-MODIFIED:20190312T153315Z
UID:3840-1572480000-1572566399@www.dubuquecameraclub.com
SUMMARY:Silos & Smokestacks deadline
DESCRIPTION:The Silos & Smokestacks 2019 Capture the Heart of America photo contest will be accepting entries from July 1 to Oct. 31\, 2019. Cash prizes for winners. There is an entry fee. Visit their Flickr site to see what type of images have been submitted in the past: kids\, farm animals\, outdoor agricultural scenes\, etc.  Learn more on the Silos & Smokestacks website.
URL:https://www.dubuquecameraclub.com/event/silos-smokestacks-2019/
LOCATION:IL
CATEGORIES:Photography contests
END:VEVENT
BEGIN:VEVENT
DTSTART;VALUE=DATE:20190812
DTEND;VALUE=DATE:20190813
DTSTAMP:20260419T190418
CREATED:20190726T021503Z
LAST-MODIFIED:20190726T021817Z
UID:4754-1565568000-1565654399@www.dubuquecameraclub.com
SUMMARY:Call for images - Farm Life magazine
DESCRIPTION:Have you taken any good photos with a rural or farm theme? The Dubuque Telegraph-Herald is asking for tri-state images for its Farm Life magazine. Deadline is August 12\, 2019.
URL:https://www.dubuquecameraclub.com/event/call-for-images-farm-life-magazine/
LOCATION:IL
CATEGORIES:Photography contests
ATTACH;FMTTYPE=image/jpeg:https://www.dubuquecameraclub.com/wp-content/uploads/2019/07/FarmLifeSeeksphotos2.jpg
END:VEVENT
BEGIN:VEVENT
DTSTART;VALUE=DATE:20190615
DTEND;VALUE=DATE:20190617
DTSTAMP:20260419T190418
CREATED:20190312T151342Z
LAST-MODIFIED:20190528T145124Z
UID:3835-1560556800-1560729599@www.dubuquecameraclub.com
SUMMARY:Iowa State Fair photography deadline
DESCRIPTION:The Iowa State Fair will be held in Des Moines on August 8-18\, 2019. The theme is “It’s all about the 8’s.” Photos need to show a group of eight items\, or something that makes the shape of an 8. They must be naturally occurring\, not artificially arranged. \nPhotography entry deadline is June 15-16\, 2019. Fine art deadline is May 31. Find more information and entry form on the Iowa State Fair website. Click here for a link to the photography rules.
URL:https://www.dubuquecameraclub.com/event/2019-state-fair/
LOCATION:IL
CATEGORIES:Photography contests
ATTACH;FMTTYPE=image/jpeg:https://www.dubuquecameraclub.com/wp-content/uploads/2019/03/statefair.jpg
END:VEVENT
BEGIN:VEVENT
DTSTART;VALUE=DATE:20190401
DTEND;VALUE=DATE:20190402
DTSTAMP:20260419T190418
CREATED:20190218T031418Z
LAST-MODIFIED:20190218T031734Z
UID:3573-1554076800-1554163199@www.dubuquecameraclub.com
SUMMARY:DAWG Gallery deadline April 1st
DESCRIPTION:April 1st is the deadline to submit your black and white photos to the Dubuque Area Writers Guild for publication in their annual anthology. \nSend your B&W photo(s) in JPG format to dubuqueareawritersguild@gmail.com Use “2019 Gallery submission” as the subject of the email.  \nTo submit\, you must be a Dubuquer or have ties to the Dubuque area. Include a short biographical paragraph about yourself (up to 50 words). \nA reception to launch the 2019 anthology will be held during DubuqueFest on Friday\, May 17\, 2019\, at the Dubuque Museum of Art. 
URL:https://www.dubuquecameraclub.com/event/dawg-2019/
LOCATION:IL
CATEGORIES:Photography contests
ATTACH;FMTTYPE=image/jpeg:https://www.dubuquecameraclub.com/wp-content/uploads/2019/02/2019DAWGgallery.jpg
END:VEVENT
BEGIN:VEVENT
DTSTART;VALUE=DATE:20181214
DTEND;VALUE=DATE:20181215
DTSTAMP:20260419T190418
CREATED:20180623T190306Z
LAST-MODIFIED:20180623T195610Z
UID:2625-1544745600-1544831999@www.dubuquecameraclub.com
SUMMARY:Keep Iowa Beautiful photography contest
DESCRIPTION:Deadline to submit your photos to this year’s Keep Iowa Beautiful photography contest is December 14\, 2018. Keep Iowa Beautiful is a statewide nonprofit committed to enhancing the image and appearance of the countryside and Iowa communities to improve economic health and cultural vitality. \nLast year\, Dubuque Camera Club member  Robert Felderman won 3rd place in the contest with his drone photo\, “Spring Planting.” See last year’s winners here.  Cost is $5 per entry (up to 10 entries). More detailed information is on their website.
URL:https://www.dubuquecameraclub.com/event/keep-iowa-beautiful-2018/
LOCATION:IL
CATEGORIES:Photography contests
ATTACH;FMTTYPE=image/jpeg:https://www.dubuquecameraclub.com/wp-content/uploads/2018/06/keepiowabeautifulcontest-e1529780103263.jpg
END:VEVENT
BEGIN:VEVENT
DTSTART;VALUE=DATE:20181031
DTEND;VALUE=DATE:20181101
DTSTAMP:20260419T190418
CREATED:20181016T211610Z
LAST-MODIFIED:20181016T211750Z
UID:2987-1540944000-1541030399@www.dubuquecameraclub.com
SUMMARY:Silos and Smokestacks 2018 photo contest
DESCRIPTION:The Silos and Smokestacks 2018 Capture the Heart of America photo contest deadline has been extended through October 31\, 2018. This annual contest is perfect for your rural photos of agricultural scenes that include farm machinery\, cropland\, livestock\, or farm kids.  See their website for entry details.
URL:https://www.dubuquecameraclub.com/event/silos-2018-2/
LOCATION:IL
CATEGORIES:Photography contests
END:VEVENT
END:VCALENDAR