BEGIN:VCALENDAR
VERSION:2.0
PRODID:-//Dubuque Camera Club - ECPv6.15.20//NONSGML v1.0//EN
CALSCALE:GREGORIAN
METHOD:PUBLISH
X-WR-CALNAME:Dubuque Camera Club
X-ORIGINAL-URL:https://www.dubuquecameraclub.com
X-WR-CALDESC:Events for Dubuque Camera Club
REFRESH-INTERVAL;VALUE=DURATION:PT1H
X-Robots-Tag:noindex
X-PUBLISHED-TTL:PT1H
BEGIN:VTIMEZONE
TZID:America/Chicago
BEGIN:DAYLIGHT
TZOFFSETFROM:-0600
TZOFFSETTO:-0500
TZNAME:CDT
DTSTART:20170312T080000
END:DAYLIGHT
BEGIN:STANDARD
TZOFFSETFROM:-0500
TZOFFSETTO:-0600
TZNAME:CST
DTSTART:20171105T070000
END:STANDARD
BEGIN:DAYLIGHT
TZOFFSETFROM:-0600
TZOFFSETTO:-0500
TZNAME:CDT
DTSTART:20180311T080000
END:DAYLIGHT
BEGIN:STANDARD
TZOFFSETFROM:-0500
TZOFFSETTO:-0600
TZNAME:CST
DTSTART:20181104T070000
END:STANDARD
BEGIN:DAYLIGHT
TZOFFSETFROM:-0600
TZOFFSETTO:-0500
TZNAME:CDT
DTSTART:20190310T080000
END:DAYLIGHT
BEGIN:STANDARD
TZOFFSETFROM:-0500
TZOFFSETTO:-0600
TZNAME:CST
DTSTART:20191103T070000
END:STANDARD
BEGIN:DAYLIGHT
TZOFFSETFROM:-0600
TZOFFSETTO:-0500
TZNAME:CDT
DTSTART:20200308T080000
END:DAYLIGHT
BEGIN:STANDARD
TZOFFSETFROM:-0500
TZOFFSETTO:-0600
TZNAME:CST
DTSTART:20201101T070000
END:STANDARD
END:VTIMEZONE
BEGIN:VEVENT
DTSTART;TZID=America/Chicago:20191202T180000
DTEND;TZID=America/Chicago:20191202T210000
DTSTAMP:20260424T115057
CREATED:20190614T185654Z
LAST-MODIFIED:20191127T175833Z
UID:4614-1575309600-1575320400@www.dubuquecameraclub.com
SUMMARY:Holiday potluck party - Dec. 2nd @ 6:00 p.m.
DESCRIPTION:The Dubuque Camera Club will meet on Monday\, December  2nd\, 2019 at 6:00 p.m. for our annual holiday potluck party. Note date change and early start time! Bring family/significant other\, along with a dish to share.  Club members\, see your email to RSVP.
URL:https://www.dubuquecameraclub.com/event/holiday-dec-2nd-2019/
LOCATION:E.B. Lyons Interpretive Center\, Mines of Spain Recreation Area\, 8991 Bellevue Heights\, Dubuque\, IA\, 52003-9214\, United States
CATEGORIES:Club meeting
ATTACH;FMTTYPE=image/jpeg:https://www.dubuquecameraclub.com/wp-content/uploads/2019/11/holiday-potluck450-Copy-1.jpg
END:VEVENT
BEGIN:VEVENT
DTSTART;TZID=America/Chicago:20191118T183000
DTEND;TZID=America/Chicago:20191118T200000
DTSTAMP:20260424T115057
CREATED:20190614T184709Z
LAST-MODIFIED:20191106T170621Z
UID:4611-1574101800-1574107200@www.dubuquecameraclub.com
SUMMARY:Club meeting - Nov. 18
DESCRIPTION:The Dubuque Camera Club will meet on Monday\, November 18\, 2019 at 6:30 p.m.  Club members are invited to share their Five-Minute Tips and Tricks.  In addition\, the club will offer photo critiques.  If you would like to present\, or have your photo(s) critiqued\, please contact club president Ronald Tigges.  Click here for more details.
URL:https://www.dubuquecameraclub.com/event/club-meeting-nov-18/
LOCATION:E.B. Lyons Interpretive Center\, Mines of Spain Recreation Area\, 8991 Bellevue Heights\, Dubuque\, IA\, 52003-9214\, United States
CATEGORIES:Club meeting
ATTACH;FMTTYPE=image/jpeg:https://www.dubuquecameraclub.com/wp-content/uploads/2019/11/Nov-2019-critique-450.jpg
END:VEVENT
BEGIN:VEVENT
DTSTART;TZID=America/Chicago:20191104T183000
DTEND;TZID=America/Chicago:20191104T200000
DTSTAMP:20260424T115057
CREATED:20190614T184517Z
LAST-MODIFIED:20190614T184517Z
UID:4609-1572892200-1572897600@www.dubuquecameraclub.com
SUMMARY:Club meeting - Nov. 4
DESCRIPTION:The Dubuque Camera Club will meet on Monday\, November 4\, 2019 at 6:30 p.m. All tri-state area photographers are welcome to attend. Submissions to the monthly N4C competition are due before the meeting.
URL:https://www.dubuquecameraclub.com/event/club-meeting-nov-4-2019/
LOCATION:E.B. Lyons Interpretive Center\, Mines of Spain Recreation Area\, 8991 Bellevue Heights\, Dubuque\, IA\, 52003-9214\, United States
CATEGORIES:Club meeting,Monthly competition deadline
ATTACH;FMTTYPE=image/jpeg:https://www.dubuquecameraclub.com/wp-content/uploads/2019/06/club-meeting-next-year-Copy2.jpg
END:VEVENT
BEGIN:VEVENT
DTSTART;TZID=America/Chicago:20191021T183000
DTEND;TZID=America/Chicago:20191021T200000
DTSTAMP:20260424T115057
CREATED:20190614T183331Z
LAST-MODIFIED:20191012T175116Z
UID:4605-1571682600-1571688000@www.dubuquecameraclub.com
SUMMARY:Club Meeting - Light Painting workshop - Oct. 21 @ 6:30
DESCRIPTION:The Dubuque Camera Club will meet on Monday\, October 21\, 2019 at 6:30 p.m. Location: E.B. Lyons Interpretive Center\, Mines of Spain. All tri-state area photographers are welcome to attend. \nWe are planning a light painting activity. Depending on the weather\, we will also go outside for a night photoshoot. Bring tripod and gear. \nYou may want to practice long exposure photography before the meeting. If you are willing to hold the lights for light painting\, be sure to wear dark clothing. For going outside: Dress warmly and wear your hiking shoes. You may want to bring a flashlight and/or binoculars (for looking at the moon/stars). More details will be emailed to club members.  \nSee the links below for a couple of good light painting tutorials: \n\nLight painting photography – from Canon Europe\nLight painting\, part one – from Digital Photography School
URL:https://www.dubuquecameraclub.com/event/club-meeting-oct-21-2019/
LOCATION:E.B. Lyons Interpretive Center\, Mines of Spain Recreation Area\, 8991 Bellevue Heights\, Dubuque\, IA\, 52003-9214\, United States
CATEGORIES:Club meeting
ATTACH;FMTTYPE=image/jpeg:https://www.dubuquecameraclub.com/wp-content/uploads/2019/10/night-painting450.jpg
END:VEVENT
BEGIN:VEVENT
DTSTART;TZID=America/Chicago:20191007T183000
DTEND;TZID=America/Chicago:20191007T200000
DTSTAMP:20260424T115057
CREATED:20190614T182939Z
LAST-MODIFIED:20190921T005644Z
UID:4602-1570473000-1570478400@www.dubuquecameraclub.com
SUMMARY:Club meeting - Oct. 7 @ 6:30 p.m.
DESCRIPTION:The Dubuque Camera Club will meet on Monday\, October 7\, 2019 at 6:30 p.m.  Monthly N4C submissions are due before the meeting.\nOur club can enter double Digital Nature this month. If you haven’t already done so\, please pay your annual dues ($20). Find out  what happened at this year’s N4C convention in Des Moines.
URL:https://www.dubuquecameraclub.com/event/club-meeting-oct-7-2019/
LOCATION:IA
CATEGORIES:Club meeting
ATTACH;FMTTYPE=image/jpeg:https://www.dubuquecameraclub.com/wp-content/uploads/2019/06/club-meeting-next-year450.jpg
END:VEVENT
BEGIN:VEVENT
DTSTART;TZID=America/Chicago:20190903T183000
DTEND;TZID=America/Chicago:20190903T200000
DTSTAMP:20260424T115057
CREATED:20190404T210559Z
LAST-MODIFIED:20190614T181153Z
UID:3926-1567535400-1567540800@www.dubuquecameraclub.com
SUMMARY:First meeting of the 2019/20 season
DESCRIPTION:The Dubuque Camera Club will meet on TUESDAY\, Sept. 3\, 2019\, for the first meeting of the 2019/2020 N4C season.\nMeetings are usually held on the 1st and 3rd Mondays of each month\, in a season that runs from Sept. through May. However\, due to the Labor Day holiday\, this meeting will be held on a Tuesday.\nMeetings start at 6:30 p.m. All tri-state area photography enthusiasts are welcome to attend.\nAnnual club dues of $20 are payable at the first meeting. Club members in good standing may participate in member exhibits/activities\, and submit to the N4C photo competition.\nSubmissions to the monthly N4C competition are due before the meeting. No Digital Nature entries because we will judge that category at the next meeting.
URL:https://www.dubuquecameraclub.com/event/first-meeting-sept3-2019/
LOCATION:E.B. Lyons Interpretive Center\, Mines of Spain Recreation Area\, 8991 Bellevue Heights\, Dubuque\, IA\, 52003-9214\, United States
CATEGORIES:Club meeting,Monthly competition deadline
ATTACH;FMTTYPE=image/jpeg:https://www.dubuquecameraclub.com/wp-content/uploads/2019/04/first-meeting.jpg
END:VEVENT
BEGIN:VEVENT
DTSTART;TZID=America/Chicago:20190603T180000
DTEND;TZID=America/Chicago:20190603T200000
DTSTAMP:20260424T115057
CREATED:20190207T170702Z
LAST-MODIFIED:20190528T151913Z
UID:3464-1559584800-1559592000@www.dubuquecameraclub.com
SUMMARY:Potluck Picnic - June 3\, 2019
DESCRIPTION:The Dubuque Camera Club will meet on Monday\, June 3\, 2019 at 6:00 p.m. for our end-of-the-season potluck picnic. Note early start time! Open to club members only. Bring family/significant other\, along with a dish to share. The club will provide burgers and brats. Members\, check your email for details and a link to an RSVP form.  You are welcome to bring a friend who is interested in joining the club.   \nAGENDA: We will elect officers for next year\, go over reflections submissions\, talk about a summer photo shoot\, and enjoy a delicious meal! \nIMPORTANT: Reflections submissions are due before the meeting. ** Click here for Reflections guidelines **.
URL:https://www.dubuquecameraclub.com/event/potluck-picnic-june-3-2019/
LOCATION:IA
CATEGORIES:Club meeting
ATTACH;FMTTYPE=image/jpeg:https://www.dubuquecameraclub.com/wp-content/uploads/2019/02/picnic-2019-450.jpg
END:VEVENT
BEGIN:VEVENT
DTSTART;TZID=America/Chicago:20190520T183000
DTEND;TZID=America/Chicago:20190520T200000
DTSTAMP:20260424T115057
CREATED:20190207T172030Z
LAST-MODIFIED:20190510T154002Z
UID:3470-1558377000-1558382400@www.dubuquecameraclub.com
SUMMARY:Critique Night — Mon. May 20
DESCRIPTION:The Dubuque Camera Club will meet on Monday\, May 20\, 2019 at 6:30 p.m. \nPhoto Critique Night!\nClub members can submit 1 to 3 photos for constructive feedback. ** CLICK HERE for the Critique Guidelines.** \nEmail your images to Ken\, with Critique Night as the message subject.  They can be Reflections submissions but don’t have to be. It’s OK to send Photoshopped images. Subject matter and dimensions/file size is open (No need to follow N4C rules).  Club members\, watch your email for more details. \nNote: During this meeting\, we will also hear more about the recent N4C mini-con. May 20 will be our last regular club meeting of the 2018/19 N4C season. June 3rd will be our annual potluck picnic. We do plan to meet informally this summer. The N4C season will start up again in September.
URL:https://www.dubuquecameraclub.com/event/club-meeting-mon-may-20/
LOCATION:E.B. Lyons Interpretive Center\, Mines of Spain Recreation Area\, 8991 Bellevue Heights\, Dubuque\, IA\, 52003-9214\, United States
CATEGORIES:Club meeting
ATTACH;FMTTYPE=image/jpeg:https://www.dubuquecameraclub.com/wp-content/uploads/2019/02/photo-critique.jpg
END:VEVENT
BEGIN:VEVENT
DTSTART;TZID=America/Chicago:20190506T183000
DTEND;TZID=America/Chicago:20190506T183000
DTSTAMP:20260424T115057
CREATED:20190207T171557Z
LAST-MODIFIED:20190428T140603Z
UID:3467-1557167400-1557167400@www.dubuquecameraclub.com
SUMMARY:Club meeting — Mon. May 6
DESCRIPTION:The Dubuque Camera Club will meet on Monday\, May 6\, 2019 at 6:30 p.m.  All tri-state area photography enthusiasts are welcome to attend. Club members\, send in your N4C submissions before the meeting.   We can submit double DT this month.
URL:https://www.dubuquecameraclub.com/event/club-meeting-mon-may-6/
LOCATION:E.B. Lyons Interpretive Center\, Mines of Spain Recreation Area\, 8991 Bellevue Heights\, Dubuque\, IA\, 52003-9214\, United States
CATEGORIES:Club meeting
ATTACH;FMTTYPE=image/jpeg:https://www.dubuquecameraclub.com/wp-content/uploads/2019/02/meeting-may-450.jpg
END:VEVENT
BEGIN:VEVENT
DTSTART;TZID=America/Chicago:20190415T183000
DTEND;TZID=America/Chicago:20190415T183000
DTSTAMP:20260424T115057
CREATED:20190207T164219Z
LAST-MODIFIED:20190207T164300Z
UID:3456-1555353000-1555353000@www.dubuquecameraclub.com
SUMMARY:Digital Travel judging — Mon. April 15
DESCRIPTION:The Dubuque Camera Club will meet on Monday\, April 15\, 2019 at 6:30 p.m.  All tri-state area photography enthusiasts are welcome to attend. Our club will judge the Digital Travel category of the N4C competition. Three experienced club members are needed to participate as judges. Most photos are judged on the basis of Technique\, Composition\, and Interest. See the N4C website for more about how judging works. Audience members will enjoy a lot of terrific images!
URL:https://www.dubuquecameraclub.com/event/digital-travel-judging-mon-april-15/
LOCATION:E.B. Lyons Interpretive Center\, Mines of Spain Recreation Area\, 8991 Bellevue Heights\, Dubuque\, IA\, 52003-9214\, United States
CATEGORIES:Club meeting
ATTACH;FMTTYPE=image/jpeg:https://www.dubuquecameraclub.com/wp-content/uploads/2019/02/clubmeetingMarchTravel.jpg
END:VEVENT
BEGIN:VEVENT
DTSTART;TZID=America/Chicago:20190401T183000
DTEND;TZID=America/Chicago:20190401T200000
DTSTAMP:20260424T115057
CREATED:20190207T162631Z
LAST-MODIFIED:20190321T034148Z
UID:3452-1554143400-1554148800@www.dubuquecameraclub.com
SUMMARY:Club meeting — Monday\, April 1
DESCRIPTION:The Dubuque Camera Club will meet on Monday\, April 1\, 2019 at 6:30 p.m.  All tri-state area photography enthusiasts are welcome to attend. Club members\, send in your N4C submissions before the meeting. Reminder: No Digital Travel submissions\, because we judge this category at the following meeting.
URL:https://www.dubuquecameraclub.com/event/club-meeting-monday-april-1/
LOCATION:E.B. Lyons Interpretive Center\, Mines of Spain Recreation Area\, 8991 Bellevue Heights\, Dubuque\, IA\, 52003-9214\, United States
CATEGORIES:Club meeting
ATTACH;FMTTYPE=image/jpeg:https://www.dubuquecameraclub.com/wp-content/uploads/2019/02/clubmeetingreminderMarch.jpg
END:VEVENT
BEGIN:VEVENT
DTSTART;TZID=America/Chicago:20190318T183000
DTEND;TZID=America/Chicago:20190318T193000
DTSTAMP:20260424T115057
CREATED:20190116T015637Z
LAST-MODIFIED:20190310T005907Z
UID:3276-1552933800-1552937400@www.dubuquecameraclub.com
SUMMARY:Magic of the Histogram
DESCRIPTION:At the Dubuque Camera Club meeting on Monday\, March 18\, 2019\, club member Henry Matthiessen III from Stoned Art Studio in rural Elizabeth\, Illinois\, will present on “The Magic of the Histogram.” The meeting starts at 6:30 p.m. and is free and open to the public. \nIn addition to giving tips on using the histogram in your photography\, Henry will share photos taken on a journey to the Black Rock Desert\, plus photos taken here in the Driftless Area. \nA professional photographer\, Henry has been doing “serious shooting\, take no prisoners” for twelve years.  He has led photography workshops\, mentored high school students\, and has helped others to master photography as an art medium. \nCreator of the artists’ group All River Road Talent\, he co-produces the Scenic Art Loop\, a 113-mile scenic tour of galleries in northwest Illinois. You can also find his stone oil lamps on Etsy or at DubuqueFest or other regional art fairs.  \nPut this photography presentation on your calendar and join us for a little Histogram Magic! \n♦ ♦ Click here for more detailed information about this event. ♦ ♦
URL:https://www.dubuquecameraclub.com/event/magic-of-the-histogram/
LOCATION:E.B. Lyons Interpretive Center\, Mines of Spain Recreation Area\, 8991 Bellevue Heights\, Dubuque\, IA\, 52003-9214\, United States
CATEGORIES:Club meeting,Photography events
ATTACH;FMTTYPE=image/jpeg:https://www.dubuquecameraclub.com/wp-content/uploads/2019/01/Magic-Histogram-new-FB2.jpg
END:VEVENT
BEGIN:VEVENT
DTSTART;TZID=America/Chicago:20190304T183000
DTEND;TZID=America/Chicago:20190304T200000
DTSTAMP:20260424T115057
CREATED:20190116T023327Z
LAST-MODIFIED:20190301T193948Z
UID:3283-1551724200-1551729600@www.dubuquecameraclub.com
SUMMARY:Club meeting — Monday\, March 4
DESCRIPTION:The Dubuque Camera Club will meet on Monday\, March 4\, 2019 at 6:30 p.m.  All tri-state area photography enthusiasts are welcome to attend. We are planning to discuss mirrorless cameras.  Club members\, send in your N4C submissions before the meeting. 
URL:https://www.dubuquecameraclub.com/event/club-meeting-monday-march-4/
LOCATION:E.B. Lyons Interpretive Center\, Mines of Spain Recreation Area\, 8991 Bellevue Heights\, Dubuque\, IA\, 52003-9214\, United States
CATEGORIES:Club meeting,Monthly competition deadline
ATTACH;FMTTYPE=image/jpeg:https://www.dubuquecameraclub.com/wp-content/uploads/2019/01/meeting-upsidedown450.jpg
END:VEVENT
BEGIN:VEVENT
DTSTART;TZID=America/Chicago:20190204T183000
DTEND;TZID=America/Chicago:20190204T200000
DTSTAMP:20260424T115057
CREATED:20181215T203408Z
LAST-MODIFIED:20190122T060213Z
UID:3172-1549305000-1549310400@www.dubuquecameraclub.com
SUMMARY:Club meeting — Monday\, February 4th
DESCRIPTION:The Dubuque Camera Club will meet on Monday\, February 4\, 2019 at 6:30 p.m.  General Bob Felderman will give an outbrief on this year’s national PPA convention\, ImagingUSA. \nN4C competition submissions are due before the meeting.  No Black & White submissions this month\, because we will judge that category at the next meeting. All tri-state photography enthusiasts are welcome to attend.
URL:https://www.dubuquecameraclub.com/event/club-meeting-monday-february-4th/
LOCATION:E.B. Lyons Interpretive Center\, Mines of Spain Recreation Area\, 8991 Bellevue Heights\, Dubuque\, IA\, 52003-9214\, United States
CATEGORIES:Club meeting
ATTACH;FMTTYPE=image/jpeg:https://www.dubuquecameraclub.com/wp-content/uploads/2018/10/winter-meeting600.jpg
END:VEVENT
BEGIN:VEVENT
DTSTART;TZID=America/Chicago:20190121T183000
DTEND;TZID=America/Chicago:20190121T200000
DTSTAMP:20260424T115057
CREATED:20181016T210822Z
LAST-MODIFIED:20181215T202901Z
UID:2985-1548095400-1548100800@www.dubuquecameraclub.com
SUMMARY:Club meeting - January 21
DESCRIPTION:The Dubuque Camera Club will meet on Monday\, January 21\, 2019 at 6:30 p.m. All tri-state photography enthusiasts are invited to attend. The agenda will be a flash/lighting workshop\, so bring your gear. Please check our Facebook group for any weather-related cancellations.
URL:https://www.dubuquecameraclub.com/event/club-meeting-january-21/
LOCATION:E.B. Lyons Interpretive Center\, Mines of Spain Recreation Area\, 8991 Bellevue Heights\, Dubuque\, IA\, 52003-9214\, United States
CATEGORIES:Club meeting
ATTACH;FMTTYPE=image/jpeg:https://www.dubuquecameraclub.com/wp-content/uploads/2018/10/winter-meeting-flash.jpg
END:VEVENT
BEGIN:VEVENT
DTSTART;TZID=America/Chicago:20190107T183000
DTEND;TZID=America/Chicago:20190107T200000
DTSTAMP:20260424T115057
CREATED:20181016T210435Z
LAST-MODIFIED:20181215T202739Z
UID:2982-1546885800-1546891200@www.dubuquecameraclub.com
SUMMARY:Club meeting - January 7th
DESCRIPTION:The Dubuque Camera Club will meet on Monday\, January 7th\, 2019 at 6:30 p.m. All tri-state photography enthusiasts are invited to attend. N4C competition submissions are due before the meeting. Please watch our Facebook group for any weather-related cancellations.
URL:https://www.dubuquecameraclub.com/event/club-meeting-january-7th/
LOCATION:E.B. Lyons Interpretive Center\, Mines of Spain Recreation Area\, 8991 Bellevue Heights\, Dubuque\, IA\, 52003-9214\, United States
CATEGORIES:Club meeting
ATTACH;FMTTYPE=image/jpeg:https://www.dubuquecameraclub.com/wp-content/uploads/2018/10/winter-meeting600.jpg
END:VEVENT
BEGIN:VEVENT
DTSTART;VALUE=DATE:20181217
DTEND;VALUE=DATE:20181218
DTSTAMP:20260424T115057
CREATED:20181122T175448Z
LAST-MODIFIED:20181122T175448Z
UID:3102-1545004800-1545091199@www.dubuquecameraclub.com
SUMMARY:No 2nd meeting in December
DESCRIPTION:Due to the holiday season\, there will be no second meeting in December\, and no N4C submissions this month.
URL:https://www.dubuquecameraclub.com/event/no-2nd-dec/
LOCATION:IA
CATEGORIES:Club meeting
ATTACH;FMTTYPE=image/jpeg:https://www.dubuquecameraclub.com/wp-content/uploads/2018/11/nosecondmeeting.jpg
END:VEVENT
BEGIN:VEVENT
DTSTART;TZID=America/Chicago:20181203T180000
DTEND;TZID=America/Chicago:20181203T200000
DTSTAMP:20260424T115057
CREATED:20181016T205646Z
LAST-MODIFIED:20181122T180117Z
UID:2977-1543860000-1543867200@www.dubuquecameraclub.com
SUMMARY:Holiday Party - December 3rd
DESCRIPTION:The Dubuque Camera Club will hold its annual Holiday Party on Monday\, December 3\, 2018 @ 6:00 p.m. It is open to club members and their family members or loved ones. Bring a potluck dish. Check your email for details.  \nIf you are not a member\, or need to pay your annual dues\, please fill out the membership form and bring it to the meeting. \n 
URL:https://www.dubuquecameraclub.com/event/holiday-party-december-3rd/
LOCATION:E.B. Lyons Interpretive Center\, Mines of Spain Recreation Area\, 8991 Bellevue Heights\, Dubuque\, IA\, 52003-9214\, United States
CATEGORIES:Club meeting
ATTACH;FMTTYPE=image/jpeg:https://www.dubuquecameraclub.com/wp-content/uploads/2018/11/holidayphotographer450b.jpg
END:VEVENT
BEGIN:VEVENT
DTSTART;TZID=America/Chicago:20181119T183000
DTEND;TZID=America/Chicago:20181119T200000
DTSTAMP:20260424T115057
CREATED:20181016T205000Z
LAST-MODIFIED:20181111T152611Z
UID:2973-1542652200-1542657600@www.dubuquecameraclub.com
SUMMARY:Storytelling in Wildlife Photography - November 19
DESCRIPTION:The Dubuque Camera Club will meet on Monday\, November 19\, 2018 at 6:30 p.m. Club member Andreas Exner will give a presentation on Storytelling in Wildlife Photography. \nAndreas is a skilled wildlife\, nature\, and landscape photographer. He is originally from Germany and now makes his home in the tri-states. He will share a slideshow of his images and discuss these questions: \n\nHow to get started with wildlife photography\, even with a small camera and lens?\nWhat are good locations to photograph wildlife in and around the Mississippi Valley?\nHow can we become better story tellers with our photos?\nWhat about safety and ethics?\n\nThe hour-long presentation will be followed by a question and answer period. The program is free and open to all photography enthusiasts in the tri-state area. \nIf you wish to join the Dubuque Camera Club\, annual membership dues of only $20 will allow you to participate in events\, competition\, and exhibitions.
URL:https://www.dubuquecameraclub.com/event/wildlife-storytelling/
LOCATION:E.B. Lyons Interpretive Center\, Mines of Spain Recreation Area\, 8991 Bellevue Heights\, Dubuque\, IA\, 52003-9214\, United States
CATEGORIES:Club meeting
ATTACH;FMTTYPE=image/jpeg:https://www.dubuquecameraclub.com/wp-content/uploads/2018/10/Andreas02-e1541343081751.jpg
END:VEVENT
BEGIN:VEVENT
DTSTART;TZID=America/Chicago:20181105T183000
DTEND;TZID=America/Chicago:20181105T200000
DTSTAMP:20260424T115057
CREATED:20181016T204714Z
LAST-MODIFIED:20181104T165712Z
UID:2970-1541442600-1541448000@www.dubuquecameraclub.com
SUMMARY:Club meeting - November 5th
DESCRIPTION:The Dubuque Camera Club will meet on Monday\, November 5\, 2018 at 6:30 p.m. All tri-state photography enthusiasts are invited to attend.  N4C competition submissions are due before the meeting. We will go over submissions and returns and discuss the upcoming Holiday party. Tentative: More Lightroom tips and tricks.
URL:https://www.dubuquecameraclub.com/event/club-meeting-november-5th/
LOCATION:E.B. Lyons Interpretive Center\, Mines of Spain Recreation Area\, 8991 Bellevue Heights\, Dubuque\, IA\, 52003-9214\, United States
CATEGORIES:Club meeting
ATTACH;FMTTYPE=image/jpeg:https://www.dubuquecameraclub.com/wp-content/uploads/2018/10/clubmeetingNov450.jpg
END:VEVENT
BEGIN:VEVENT
DTSTART;TZID=America/Chicago:20180917T183000
DTEND;TZID=America/Chicago:20180917T183000
DTSTAMP:20260424T115057
CREATED:20180816T135046Z
LAST-MODIFIED:20180816T135202Z
UID:2810-1537209000-1537209000@www.dubuquecameraclub.com
SUMMARY:Club meeting
DESCRIPTION:A regular meeting of the Dubuque Camera Club is scheduled for Monday\, Sept. 17th at 6:30 p.m. We are sure to enjoy some post-convention decompression discussion. Other activities TBA.
URL:https://www.dubuquecameraclub.com/event/club-meeting-32/
LOCATION:E.B. Lyons Interpretive Center\, Mines of Spain Recreation Area\, 8991 Bellevue Heights\, Dubuque\, IA\, 52003-9214\, United States
CATEGORIES:Club meeting
ATTACH;FMTTYPE=image/jpeg:https://www.dubuquecameraclub.com/wp-content/uploads/2017/11/CamClubMeetingNove2017FB.jpg
END:VEVENT
BEGIN:VEVENT
DTSTART;TZID=America/Chicago:20180904T183000
DTEND;TZID=America/Chicago:20180904T200000
DTSTAMP:20260424T115057
CREATED:20180506T155109Z
LAST-MODIFIED:20180831T200939Z
UID:2127-1536085800-1536091200@www.dubuquecameraclub.com
SUMMARY:Club Meeting TUESDAY Sept. 4\, 2018
DESCRIPTION:The Dubuque Camera Club will meet on TUESDAY\, Sept. 4\, 2018 (the day after Labor Day).  This is our first meeting of the 2018/2019 season. One item on the agenda will be the N4C Blufftops & Visions convention\, which will happen in downtown Dubuque the following weekend. \nThere will also be a mandatory meeting for convention volunteers on Sept. 8. Club members\, see your email for details.
URL:https://www.dubuquecameraclub.com/event/club-meeting-tuesday-sept-4-2018/
LOCATION:E.B. Lyons Interpretive Center\, Mines of Spain Recreation Area\, 8991 Bellevue Heights\, Dubuque\, IA\, 52003-9214\, United States
CATEGORIES:Blufftops and Visions,Club meeting
ATTACH;FMTTYPE=image/jpeg:https://www.dubuquecameraclub.com/wp-content/uploads/2018/05/MeetingReminder450bjpg.jpg
END:VEVENT
END:VCALENDAR